BEGIN:VCALENDAR
VERSION:2.0
PRODID:-//The Dukes of Oz - ECPv6.15.11//NONSGML v1.0//EN
CALSCALE:GREGORIAN
METHOD:PUBLISH
X-WR-CALNAME:The Dukes of Oz
X-ORIGINAL-URL:https://dukesofoz.au
X-WR-CALDESC:Events for The Dukes of Oz
REFRESH-INTERVAL;VALUE=DURATION:PT1H
X-Robots-Tag:noindex
X-PUBLISHED-TTL:PT1H
BEGIN:VTIMEZONE
TZID:Australia/Brisbane
BEGIN:STANDARD
TZOFFSETFROM:+1000
TZOFFSETTO:+1000
TZNAME:AEST
DTSTART:20240101T000000
END:STANDARD
END:VTIMEZONE
BEGIN:VTIMEZONE
TZID:Australia/Melbourne
BEGIN:STANDARD
TZOFFSETFROM:+1100
TZOFFSETTO:+1000
TZNAME:AEST
DTSTART:20240406T160000
END:STANDARD
BEGIN:DAYLIGHT
TZOFFSETFROM:+1000
TZOFFSETTO:+1100
TZNAME:AEDT
DTSTART:20241005T160000
END:DAYLIGHT
BEGIN:STANDARD
TZOFFSETFROM:+1100
TZOFFSETTO:+1000
TZNAME:AEST
DTSTART:20250405T160000
END:STANDARD
BEGIN:DAYLIGHT
TZOFFSETFROM:+1000
TZOFFSETTO:+1100
TZNAME:AEDT
DTSTART:20251004T160000
END:DAYLIGHT
BEGIN:STANDARD
TZOFFSETFROM:+1100
TZOFFSETTO:+1000
TZNAME:AEST
DTSTART:20260404T160000
END:STANDARD
BEGIN:DAYLIGHT
TZOFFSETFROM:+1000
TZOFFSETTO:+1100
TZNAME:AEDT
DTSTART:20261003T160000
END:DAYLIGHT
END:VTIMEZONE
BEGIN:VTIMEZONE
TZID:Australia/Sydney
BEGIN:STANDARD
TZOFFSETFROM:+1100
TZOFFSETTO:+1000
TZNAME:AEST
DTSTART:20240406T160000
END:STANDARD
BEGIN:DAYLIGHT
TZOFFSETFROM:+1000
TZOFFSETTO:+1100
TZNAME:AEDT
DTSTART:20241005T160000
END:DAYLIGHT
BEGIN:STANDARD
TZOFFSETFROM:+1100
TZOFFSETTO:+1000
TZNAME:AEST
DTSTART:20250405T160000
END:STANDARD
BEGIN:DAYLIGHT
TZOFFSETFROM:+1000
TZOFFSETTO:+1100
TZNAME:AEDT
DTSTART:20251004T160000
END:DAYLIGHT
BEGIN:STANDARD
TZOFFSETFROM:+1100
TZOFFSETTO:+1000
TZNAME:AEST
DTSTART:20260404T160000
END:STANDARD
BEGIN:DAYLIGHT
TZOFFSETFROM:+1000
TZOFFSETTO:+1100
TZNAME:AEDT
DTSTART:20261003T160000
END:DAYLIGHT
END:VTIMEZONE
BEGIN:VEVENT
DTSTART;VALUE=DATE:20260101
DTEND;VALUE=DATE:20260102
DTSTAMP:20260421T215528
CREATED:20241207T234242Z
LAST-MODIFIED:20241227T122850Z
UID:991-1767225600-1767311999@dukesofoz.au
SUMMARY:Flinders to Fleurieu Rally
DESCRIPTION:We have a new Marathon Rally Event in the making with a massive 5 Days of Rally in South Australia.\n\nIntroducing the Flinders to Fleurieu (F2F) in 2026.\n\nJoin Motorsport Enthusiasts from around the world and be part of an exhilarating 5-Day Journey through some of Australia’s most Breathtaking Scenery.\n\n\n\nStarting in the Stunning Flinders Ranges and concluding on the equally as Beautiful Fleurieu Peninsula\, this event will be sure to exceed all expectations.\n.\n\n\n\n\n\n.\n\n\n\nVision: “To create an Unforgettable Rally that celebrates the Stunning Landscapes of the Flinders Ranges and Fleurieu Peninsula\, fostering Community Spirit\, promoting Local Culture\, and engaging Motorsport Enthusiasts worldwide.” \n\n\n\n\n\nMission:  “Our mission is to host a Premier Five-Day Rally Event that combines Thrilling Competition with a strong commitment to Local Community Engagement and Sustainability. We aim to deliver an Exciting Experience for participants featuring challenging stages while Supporting Local Businesses and Fostering Partnerships with emergency services.” \n\n\n\nFollow us for dates\, event info and registration details as it comes together.\n\n.\nThis type of event is what the Rally Monaro was built for and what Stunning and Beautiful Locations in South Australia to showcase the Monaro in all it’s Glory.\n\nWe are really looking forward to this event coming together and being a part of it one way or another.
URL:https://dukesofoz.au/event/flinders-to-fleurieu-rally/
LOCATION:Flinders to Fleurieu\, South Australia\, Australia
CATEGORIES:Classic Rally,Dukes of Oz Bucket List,South Australia
ATTACH;FMTTYPE=image/jpeg:https://dukesofoz.au/wp-content/uploads/2024/12/Flinders-to-Fleurieu-Rally-2026-1.jpg
ORGANIZER;CN="Australian Motorsport Academy":MAILTO:info@motorsportacademy.com
END:VEVENT
BEGIN:VEVENT
DTSTART;VALUE=DATE:20251128
DTEND;VALUE=DATE:20251201
DTSTAMP:20260421T215528
CREATED:20241208T012802Z
LAST-MODIFIED:20241208T095309Z
UID:1004-1764288000-1764547199@dukesofoz.au
SUMMARY:Alpine Rally of East Gippsland
DESCRIPTION:  \nThe Alpine is the Oldest Surviving Motorsport Event in Australia and the Second Oldest Rally in the World! \n  \n \n  \nOnly a handful of motorsport events\, including the French Grand Prix\, the Monte Carlo Rally\, the Indianapolis 500\, Pikes Peak Hill Climb and the Italian Grand Prix\, are older.  So the Aussie Alpine Rally is in amazing company. \nThe Alpine is a Special Stage Rally for Two Wheel Drive Classic Rally Cars and usually covers Over 1\,000 km. \nThe event attracts the Cream of Australia’s Gravel Rally Competitors\, from all states and territories along with International Competitors from New Zealand\, the UK\, the USA and Ireland. \n2021 was the 100th Anniversary of the first running of the Alpine in 1921. \nUnfortunately\, due to COVID lockdowns the centenary celebrations were postponed to December 2022. \nThe East Gippsland weather was Fabulous in 2022 for the Alpine Rally Centenary and everyone had a Great Time. \n  \n \n  \nThe Lovell’s Alpine Rally of East Gippsland will be back in November 2025. \nThe Historic Rally Association is in the planning and the Excitement is Growing by the day. \nThe Alpine Committee will be reverting to the Traditional 2.5 Day Format for 2025 with the Amazing Action from Friday afternoon to Sunday. \nThe plan for 2025 is for Evolution\, not Revolution!  \nThe 2025 Lovell’s Apline Rally of East Gippsland will run with a spirit and an ethos that acknowledges the importance of an era in our Rally history\, with a particular focus on the “Golden Era” of Alpine Rallies in years gone by.  \nThe mantra for 2025 is “Celebrating the Past\, Creating History”\, acknowledge and celebrate the deeds of the past while we Write another Chapter of its History in 2025.  \n  \n \n  \nThe Rally Monaro has completed no less than 7 Apline Rallys driven by Rally Legend Ken Cusack within his 200+ Events History which is incredible. \nClearly the Dimech Brothers want to Honor this History and be part of an Alpine Rally themselves. \nPlans are underway to make 2025 the Dimech Brothers Alpine Rally and fingers crossed we can make the planets align. \nWe look forward to sharing the Rally Monaro Experience at the Alpine Rally once more. \n  \n \n  \n.
URL:https://dukesofoz.au/event/alpine-rally-of-east-gippsland/
LOCATION:East Gippsland\, victoria\, Australia
CATEGORIES:Classic Rally,Dukes of Oz Bucket List,Victoria
ATTACH;FMTTYPE=image/jpeg:https://dukesofoz.au/wp-content/uploads/2024/12/Alpine-Rally-of-East-Gippsland-2025.jpg
ORGANIZER;CN="Historic Rally Association":MAILTO:secretary@hra.org.au
END:VEVENT
BEGIN:VEVENT
DTSTART;TZID=Australia/Brisbane:20251004T123000
DTEND;TZID=Australia/Brisbane:20251005T140000
DTSTAMP:20260421T215528
CREATED:20250105T064316Z
LAST-MODIFIED:20250105T070207Z
UID:1636-1759581000-1759672800@dukesofoz.au
SUMMARY:Kosciuszko Automotive Monaro Stages
DESCRIPTION:The Kosciuszko Monaro Stages Rally is Back  on the 4th-5th October 2025.\n \nThe event will consist of Two Days and a Night with amazing Shire and Forest Roads to please. \n \nThe wonderful Light Car Club of Canberra team are excited to be working with AMSAG Inc to deliver what promises to be a Wonderful Event. \nOnce again you will have the chance to win the Debbie Quirk Memorial Trophy  \nIn 2023 Kosciuszko Monaro Stages Rally raised $11\,500 for the Cancer Care Foundation\, way to go everyone. \n \nAMSAG 2025 Southern Cross Rally Series consists of Six Events between March to November including the Monaro Stages. \nThe Kosciuszko Monaro Stages Rally will be on the 4th-5th of October making is a great opportunity to test your cars Before the 2025 Alpine Rally of East Gippsland. \n \nWith an event name\, Monaro Stages\, it certainly has caught the interest of the Dukes of Oz and is on our Bucket List so great to hear it has returned. \nWhile we have not experienced the Monaro Stages before\, we only need to see other V8 Rally Cars like this Red Rally Commodore of a previous competitor to know they are good. \nWell done Light Car Club of Canberra and AMSAG Inc in bringing back the Kosciuszko Monaro Stages Rally.  \n \nThis is an event to Come and Play on and Enjoy.
URL:https://dukesofoz.au/event/kosciuszko-automotive-monaro-stages/
LOCATION:Monaro Stages Rally\, Buldah Road\, Mila\, NSW\, 2632\, Australia
CATEGORIES:Canberra,Classic Rally,Dukes of Oz Bucket List
ATTACH;FMTTYPE=image/jpeg:https://dukesofoz.au/wp-content/uploads/2025/01/Kosciuszko-Automotive-Subaru-Monaro-Stages-Rally-Logo.jpg
END:VEVENT
BEGIN:VEVENT
DTSTART;VALUE=DATE:20251001
DTEND;VALUE=DATE:20251002
DTSTAMP:20260421T215528
CREATED:20241213T230934Z
LAST-MODIFIED:20241213T233647Z
UID:1075-1759276800-1759363199@dukesofoz.au
SUMMARY:Not the Working Dog Rally
DESCRIPTION:The Working Dog Rally is a rich event on amazing roads with great community support and is one for every rally fans To Do List.\nThe popular event takes a lot of work and commitment from all to come together.\nTo make this Great Event Sustainable the Working Dog Rally is Hitting Pause in 2025 ….. but don’t worry\, they will be Back and Bigger than ever in 2026! \n.\n\n\n\n \n\n\n\nHowever for your enjoyment they are planning a Smaller-Scale Special Event in October 2025 on a New Stretch of Road that’s never been used before! \n.\n\n“Not the Working Dog Rally!!” seems to fit\, pure Dukes of Oz speculation there though.\n.\n\n\n.\nThis means all the thrills of the rally will still be coming to the Beautiful Town of Bonalbo in 2025.\nSo Teams & Spectators\, Come and Play in this new Bite Size Event while all gear up for an even Bigger Return of the Working Dog Rally in 2026! \n.\nWatch for updates in the New Year.
URL:https://dukesofoz.au/event/not-the-working-dog-rally/
LOCATION:Bonalbo\, Bonalbo showground\, Bonalbo\, nsw\, 2469\, Australia
CATEGORIES:Classic Rally,New South Wales
ATTACH;FMTTYPE=image/jpeg:https://dukesofoz.au/wp-content/uploads/2024/12/Not-the-Working-Dog-Rally.jpg
ORGANIZER;CN="Gold Coast Tweed Motorsporting Club":MAILTO:info@gctmc.org.au
END:VEVENT
BEGIN:VEVENT
DTSTART;TZID=Australia/Brisbane:20250823T080000
DTEND;TZID=Australia/Brisbane:20250823T170000
DTSTAMP:20260421T215528
CREATED:20250116T120903Z
LAST-MODIFIED:20250116T120903Z
UID:1715-1755936000-1755968400@dukesofoz.au
SUMMARY:QLD SR Automotive 2025 RALLYSPRINT SERIES Round 3
DESCRIPTION:The Brisbane Sporting Car Club is very pleased to announce the 2025 SR Automotive Rallysprint Series being run in conjunction with the Motorsport Australia Kickass Products Queensland Rally Championship.\n.\n\n\nThis Series is open to all Novice and Clubman competitors.\nRegistration is free\, but registration is compulsory to be eligible for prizes at the end of the Series.\nThe Registration form can be found at:\n\n\nhttps://bscc.asn.au/sr-automotive-clubman-novice-series…\n.\n\n\n This is the first time this series has been conducted and we hope that it is the first year of many.\nWe wish to thank Stewart Reid from SR Automotive as the series sponsor.\n\n\nSeries Regulations can be on Sportity\, password: Automotive.
URL:https://dukesofoz.au/event/qld-sr-automotive-2025-rallysprint-series-round-3/
LOCATION:Imbil\, Derrier Rd\, Imbil\, QLD\, 4570\, Australia
CATEGORIES:Beginner Motorsport Friendly,Queensland
ATTACH;FMTTYPE=image/jpeg:https://dukesofoz.au/wp-content/uploads/2025/01/QLD-SR-Automotive-2025-Ralysprint-Series.jpg
ORGANIZER;CN="Brisbane Sporting Car Club":MAILTO:info@bscc.asn.au
END:VEVENT
BEGIN:VEVENT
DTSTART;VALUE=DATE:20250425
DTEND;VALUE=DATE:20250428
DTSTAMP:20260421T215528
CREATED:20240825T232626Z
LAST-MODIFIED:20240826T020911Z
UID:635-1745539200-1745798399@dukesofoz.au
SUMMARY:Shannons Rally SA - Rally of the Heartland
DESCRIPTION:Shannons Rally Heartland – 25-27 April 2025 \nThis rally is a Five Star Rally for the Holden Monaro Rally Team and all bigger Classic Rally Cars particularly the V8’s with Wide High Speed roads and Sweeping Bends. \nAustralia’s newest event for Classic Cars will again be a competitive event of approximately 500 kilometres based in Burra South Australia and the mid north and will again include a “Ride Day” as a feature on the fully closed Mine Shaft Rally Stage not to be missed. \nThis is a “blind” event.  It is a road book only rally. \n  \nRound 1 of the MRF South Australian Rally Championship\nRound 1 of the MRF South Australian Regularity Series\nRound 3 of the East Coast Classic Rally Series \nQuick Summary: \n\nNaming rights sponsor is SHANNONS INSURANCE.\nLong night stages in full darkness\, full fee entrants only\nEasy liaisons.\nService Park is in Burra at Paxton Square and Burra Community School.\nMinimum time away from home\, but near 500 competitive kms in total.\nNo local testing\, no recce. This is a “blind” event. It is a road book only rally.\nRegional Scrutiny is allowed/encouraged across the board with spot checks during the event.\nRallySafe is mandatory for all cars\nFive MIVs will be in attendance\, covering all stages accordingly\nParc fermé for the SARC competitors only\nEntries limited to 70 – a starting spot can be reserved by a payment of $400 inc tax\, which would be deducted from the entry fee\, and is not refundable.\nThere is an invitational and a regularity category\, and opportunity to compete in various sections of the event only.\nNew award of a Senior and Junior plate has been continued.\n\nIvar Stanelis Rally Director / Clerk of Course \nPO Box 3421 NORWOOD SA 5067\nmobile 0418 834 311 (Ivar) 0448 832 001 (Nancye)\nWeb: www.rallysa.com.au\nemail ivar@rallysa.com.au\nFacebook: https://www.facebook.com/rallyheartland/\nYouTube: https://www.youtube.com/@rallyofsa/videos
URL:https://dukesofoz.au/event/shannons-rally-sa-rally-of-the-heartland/
LOCATION:Paxton Square Cottages\, 1 Kingston Steet\, Burra\, South Australia\, 5417\, Australia
CATEGORIES:Classic Rally
ATTACH;FMTTYPE=image/jpeg:https://dukesofoz.au/wp-content/uploads/2024/08/Shannons-Heartland-Logo-768x454-1.jpg
ORGANIZER;CN="Ivar Stanelis":MAILTO:ivar@rallysa.com.au
END:VEVENT
BEGIN:VEVENT
DTSTART;TZID=Australia/Brisbane:20250329T060000
DTEND;TZID=Australia/Brisbane:20250329T180000
DTSTAMP:20260421T215528
CREATED:20250116T115158Z
LAST-MODIFIED:20250116T115158Z
UID:1713-1743228000-1743271200@dukesofoz.au
SUMMARY:QLD SR Automotive 2025 RALLYSPRINT SERIES Round 2
DESCRIPTION:The Brisbane Sporting Car Club is very pleased to announce the 2025 SR Automotive Rallysprint Series being run in conjunction with the Motorsport Australia Kickass Products Queensland Rally Championship.\n.\n\n\nThis Series is open to all Novice and Clubman competitors.\nRegistration is free\, but registration is compulsory to be eligible for prizes at the end of the Series.\nThe Registration form can be found at:\n\n\nhttps://bscc.asn.au/sr-automotive-clubman-novice-series…\n.\n\n\n This is the first time this series has been conducted and we hope that it is the first year of many.\nWe wish to thank Stewart Reid from SR Automotive as the series sponsor.\n\n\nSeries Regulations can be on Sportity\, password: Automotive.
URL:https://dukesofoz.au/event/qld-sr-automotive-2025-rallysprint-series-round-2/
LOCATION:Jimna Base Camp\, 21 school road\, jimna\, qld\, 4515\, Australia
CATEGORIES:Beginner Motorsport Friendly,Queensland
ATTACH;FMTTYPE=image/jpeg:https://dukesofoz.au/wp-content/uploads/2025/01/QLD-SR-Automotive-2025-Ralysprint-Series.jpg
ORGANIZER;CN="Brisbane Sporting Car Club":MAILTO:info@bscc.asn.au
END:VEVENT
BEGIN:VEVENT
DTSTART;TZID=Australia/Brisbane:20250222T090000
DTEND;TZID=Australia/Brisbane:20250222T160000
DTSTAMP:20260421T215528
CREATED:20250116T123915Z
LAST-MODIFIED:20250118T130751Z
UID:1718-1740214800-1740240000@dukesofoz.au
SUMMARY:APX Suspension BLACKBUTT RALLYSPRINT
DESCRIPTION:Queensland Rally Championship Round 1 \nRally Head Quarters and Service Park at Blackbutt Showgrounds\, 25 Morris Street Blackbutt \n \n2 stages ran twice in each direction giving 8 total stages and plenty of breaks \n63km Competitive with 86km Liaison for a total of 149 km \nSpectators will have 2 dedicated viewing locations in the Benarkin State Forest area with excellent close up vantage points to witness the raw power of the rally cars. \nPresentations in the beer garden of Blackbutt’s historic Hotel Radnor on the corner of Hart and Coulson street. \n \nScrutineering at APX Suspension Lawnton the morning of February 16th. \nClerk of Course Peter Flynn Mobile 0423 204 849 \np.flynn@rallyqueensland.com.au \nEven Secretary Judy Foster Mobile 0402 390 925 \nj.foster@bscc.asn.au \n 
URL:https://dukesofoz.au/event/apx-suspension-blackbutt-rallysprint/
LOCATION:Blackbutt\, 25 Morris street\, Blackbutt\, QLD\, 4314\, Australia
CATEGORIES:Beginner Motorsport Friendly,Queensland
ATTACH;FMTTYPE=image/jpeg:https://dukesofoz.au/wp-content/uploads/2025/01/Blackbutt-Rallysprint.jpg
ORGANIZER;CN="Brisbane Sporting Car Club":MAILTO:info@bscc.asn.au
END:VEVENT
BEGIN:VEVENT
DTSTART;TZID=Australia/Brisbane:20250222T090000
DTEND;TZID=Australia/Brisbane:20250222T160000
DTSTAMP:20260421T215528
CREATED:20250116T112233Z
LAST-MODIFIED:20250116T112706Z
UID:1707-1740214800-1740240000@dukesofoz.au
SUMMARY:QLD SR Automotive 2025 RALLYSPRINT SERIES Round 1
DESCRIPTION:The Brisbane Sporting Car Club is very pleased to announce the 2025 SR Automotive Rallysprint Series being run in conjunction with the Motorsport Australia Kickass Products Queensland Rally Championship.\n.\n\n\nThis Series is open to all Novice and Clubman competitors.\nRegistration is free\, but registration is compulsory to be eligible for prizes at the end of the Series.\nThe Registration form can be found at:\n\n\nhttps://bscc.asn.au/sr-automotive-clubman-novice-series…\n.\n\n\n This is the first time this series has been conducted and we hope that it is the first year of many.\nWe wish to thank Stewart Reid from SR Automotive as the series sponsor.\n\n\nSeries Regulations can be on Sportity\, password: Automotive.
URL:https://dukesofoz.au/event/qld-sr-automotive-2025-rallysprint-series-round-1/
LOCATION:Blackbutt\, 25 Morris street\, Blackbutt\, QLD\, 4314\, Australia
CATEGORIES:Beginner Motorsport Friendly,Queensland
ATTACH;FMTTYPE=image/jpeg:https://dukesofoz.au/wp-content/uploads/2025/01/QLD-SR-Automotive-2025-Ralysprint-Series.jpg
ORGANIZER;CN="Brisbane Sporting Car Club":MAILTO:info@bscc.asn.au
END:VEVENT
BEGIN:VEVENT
DTSTART;TZID=Australia/Melbourne:20250215T093000
DTEND;TZID=Australia/Melbourne:20250215T160000
DTSTAMP:20260421T215528
CREATED:20241207T081647Z
LAST-MODIFIED:20241207T093112Z
UID:917-1739611800-1739635200@dukesofoz.au
SUMMARY:Shannons Rally Retro Festival
DESCRIPTION:  \nThe Shannons Rally Retro Festival is on The Dukes of Oz Bucket List.  Unfortunately it is likely Rally Monaro will not be repaired in time to participate in 2025 which is a bit of a bugger. \nHowever Shannons Rally Retro Festival is Guaranteed to be full of Very Cool Retro Rally Cars so get along to it and Enjoy the History in Action. \n“Where the Cars are the Stars” \nThe Shannons Rally Retro Festival is an event designed to get historically significant rally cars “Out of the Shed and onto the Track” so we can Re-live the Magic that these cars brought to the forest. \nThey might be high quality Replicas\, restored Ex-Works prepared cars\, as rallied Time-Capsule Pieces or rally prepared examples of Iconic Rally Cars of the past. \nIt’s a chance for us all to Have a Good Look at these Special Retro Rally Cars\, which are often hidden away in sheds and see and Hear them Roar in Action\, on a short\, sealed rally course. \n\n\n \n\nThe event is ran by the Historic Rally Association and always has Great Reviews.
URL:https://dukesofoz.au/event/shannons-rally-retro-festival/
LOCATION:METEC Driver Training Complex\, 112 Colchester Road\, Bayswater North\, victoria\, 3153\, Australia
CATEGORIES:Classic Rally
ATTACH;FMTTYPE=image/jpeg:https://dukesofoz.au/wp-content/uploads/2024/12/Rally-Retro-Festival.jpg
ORGANIZER;CN="Historic Rally Association":MAILTO:secretary@hra.org.au
END:VEVENT
BEGIN:VEVENT
DTSTART;TZID=Australia/Brisbane:20250201T060000
DTEND;TZID=Australia/Brisbane:20250201T180000
DTSTAMP:20260421T215528
CREATED:20250104T072442Z
LAST-MODIFIED:20250118T123747Z
UID:1620-1738389600-1738432800@dukesofoz.au
SUMMARY:BSCC Test & Tune Jimna QLD
DESCRIPTION:This Little Beauty will allow you to get your Rally Team and Rally Car dialed in for a Red Hot Crack at the 2025 Rally Season. \nThe Test & Tune is also Perfect for Beginners with two pace noted stages to learn on in a Very Friendly Event by the BSCC. \nThe Brisbane Sporting Car Club Test & Tune at Jimna Base Camp is the perfect Non-Competitive start to the 2025 Rally Season. \nStage 1 is about 5 km and Stage 2 is about 11 km\, covered multiple times\, and the whole event Fits Nicely into One Day. \nYou will have Time to Recce the Stages in the morning of the event and Create Pacenotes before they are opened for Testing. \n \nEntry Form is via Motorsport Australia – BSCC Test & Tune Entry link: https://evententry.motorsport.org.au/v2/events/5029 \nOr if you have not used the Motorsport Australia Entry System then go to https://motorsport.org.au/ \nClick on Members Portal – TOP right of Screen \nYou either login or create an account \nThen go Event Entry on left hand side of screen and then click on My details Tab at the top of page and complete – once you have completed this info – then go to Up Coming Event Tab – click on BSCC Test & Tune – then on right hand side click ENTER EVENT \nCompetitors – you will have to Log in or create an account and add all relevant information\, personal\, vehicle\, service vehicle detail\, service crew. \nEntries Close Monday 20 January 2025 so don’t miss out – Please make sure you have Payment and ALL Documentation in by Close of Entries. \n \nIf you are not able to Come and Play in a rally car\, please consider Signing Up as an Official. \nEven a relatively small event like the Test & Tune needs lots of Officials to be successful and there are Roles for Every Skill Level particularly new comers. \nWhat’s more Officials get a Lot of Love including Free Breakfast and Lunch. \nCamping at Jimna Base Camp is available and is Free for Officials. \nSign up to be an Official using the link below. \nOfficials Registration BSCC Test & Tune Jimna \n \n \nThe Dukes of Oz used the Jimna Stages to shake down Rally Monaro a few years back and absolutely Loved Them. \nWe learnt a lot about the Monaro which led to big changes to the suspension (thanks Murray Coote\, MCA) and the Brakes (thanks Brisbane Brake & Clutch Services). \nThe BSCC run this event is such a friendly way you have plenty of stage time as well as tinkering time with no stress and great roads and atmosphere. \nThis is a great opportunity for any Rally Team in QLD in our books\, Rally Monaro is in SA getting a freshen up otherwise we would Come and Play. \n 
URL:https://dukesofoz.au/event/bscc-test-tune-jimna-qld/
LOCATION:Jimna Base Camp\, 21 school road\, jimna\, qld\, 4515\, Australia
CATEGORIES:Beginner Motorsport Friendly,Queensland
ATTACH;FMTTYPE=image/jpeg:https://dukesofoz.au/wp-content/uploads/2025/01/BSCC-Test-and-Tune-2025-Jimna.jpg
ORGANIZER;CN="Brisbane Sporting Car Club":MAILTO:info@bscc.asn.au
END:VEVENT
END:VCALENDAR